BEGIN:VCALENDAR
VERSION:2.0
PRODID:-//hacksw/handcal//NONSGML v1.0//EN
BEGIN:VEVENT
SUMMARY:COMPETITION A SAINT-SULPICE DIMANCHE 12 AVRIL
UID:aa4f1f91-6b28-4787-9b4d-3b37a92febad
DTSTART:20260411T220000Z
DTEND:20260412T220000Z
LOCATION:Localisation   
CATEGORIES:Sportif
STATUS:
DESCRIPTION:<div><font size="4"><b>Le club de Saint-Sulpice organise
 sa competition le Dimanche 12
 Avril.</b></font></div>
 
 <div> </div>
 
 <div><font size="4"><b>Lieu
 :  HALLE DES SPORTS HENRI MATISSE<br>
           254 RUE HENRI
 DUNANT 81370, ST SULPICE LA
 POINTE.</b></font></div>
 
 <div> </div>
 
 <div><font
 size="4"><b>Pesees : Minimes (2012-2013) =
 9h-9h15</b></font></div>
 
 <div><font size="4"><b>           
    Benjamins (2014-2015) = 10h-10h15</b></font></div>
 
 <div><font
 size="4"><b>               Poussins (2016-2017) =
 13h30-13h45</b></font></div>
 
 <div><font size="4"><b>         
      Mini-Poussins (2018-2019) = 14h30-14h45</b></font></div>
URL;VALUE=URI:https://judo-club-castelmaurou.sportsregions.fr/evenements/2026/04/12/competition-a-saint-sulpice-dimanche-12-avril-2431720
END:VEVENT
END:VCALENDAR
